BEGIN:VCALENDAR
VERSION:2.0
PRODID:SchoolNow
CALSCALE:GREGORIAN
BEGIN:VEVENT
UID:750fd164-b05c-11f0-ab09-0228d1b25e73
DTSTAMP:20260423T215115Z
SUMMARY:Reading Olympics Meetings -  6th Grade
LOCATION:Library
URL;VALUE=URI:https://www.rak12.org/calendar/8746084/reading-olympics-meeti
 ngs-6th-grade
DTSTART:20260112T163000Z
DTEND:20260112T170000Z
END:VEVENT
END:VCALENDAR
