BEGIN:VCALENDAR
VERSION:2.0
PRODID:SchoolNow
CALSCALE:GREGORIAN
BEGIN:VEVENT
UID:750fd420-b05c-11f0-b55a-0228d1b25e73
DTSTAMP:20260423T215115Z
SUMMARY:Reading Olympics Meetings -  6th Grade
LOCATION:Library
URL;VALUE=URI:https://www.rak12.org/calendar/8746087/reading-olympics-meeti
 ngs-6th-grade
DTSTART:20260209T163000Z
DTEND:20260209T170000Z
END:VEVENT
END:VCALENDAR
