BEGIN:VCALENDAR
VERSION:2.0
PRODID:SchoolNow
CALSCALE:GREGORIAN
BEGIN:VEVENT
UID:750fd6b4-b05c-11f0-b214-0228d1b25e73
DTSTAMP:20260423T215115Z
SUMMARY:Reading Olympics Meetings -  6th Grade
LOCATION:Library
URL;VALUE=URI:https://www.rak12.org/calendar/8746090/reading-olympics-meeti
 ngs-6th-grade
DTSTART:20260309T153000Z
DTEND:20260309T160000Z
END:VEVENT
END:VCALENDAR
