BEGIN:VCALENDAR
VERSION:2.0
PRODID:SchoolNow
CALSCALE:GREGORIAN
BEGIN:VEVENT
UID:750feb4a-b05c-11f0-a34a-0228d1b25e73
DTSTAMP:20260423T215115Z
SUMMARY:Reading Olympics Meetings -  7th and 8th Grade
LOCATION:Library
URL;VALUE=URI:https://www.rak12.org/calendar/8746107/reading-olympics-meeti
 ngs-7th-and-8th-grade
DTSTART:20260209T164700Z
DTEND:20260209T175000Z
END:VEVENT
END:VCALENDAR
