BEGIN:VCALENDAR
VERSION:2.0
PRODID:SchoolNow
CALSCALE:GREGORIAN
BEGIN:VEVENT
UID:750ff144-b05c-11f0-881d-0228d1b25e73
DTSTAMP:20260423T215115Z
SUMMARY:Reading Olympics Meetings -  7th and 8th Grade
LOCATION:Library
URL;VALUE=URI:https://www.rak12.org/calendar/8746114/reading-olympics-meeti
 ngs-7th-and-8th-grade
DTSTART:20260413T154700Z
DTEND:20260413T165000Z
END:VEVENT
END:VCALENDAR
