BEGIN:VCALENDAR
VERSION:2.0
PRODID:SchoolNow
CALSCALE:GREGORIAN
BEGIN:VEVENT
UID:750ffcfc-b05c-11f0-a233-0228d1b25e73
DTSTAMP:20260423T215115Z
SUMMARY:Reading Olympics Meetings -  High School
LOCATION:Library
URL;VALUE=URI:https://www.rak12.org/calendar/8746127/reading-olympics-meeti
 ngs-high-school
DTSTART:20260227T153000Z
DTEND:20260227T162000Z
END:VEVENT
END:VCALENDAR
