BEGIN:VCALENDAR
VERSION:2.0
PRODID:SchoolNow
CALSCALE:GREGORIAN
BEGIN:VEVENT
UID:750ffdd8-b05c-11f0-8956-0228d1b25e73
DTSTAMP:20260423T215115Z
SUMMARY:Reading Olympics Meetings -  High School
LOCATION:Library
URL;VALUE=URI:https://www.rak12.org/calendar/8746128/reading-olympics-meeti
 ngs-high-school
DTSTART:20260306T153000Z
DTEND:20260306T162000Z
END:VEVENT
END:VCALENDAR
