BEGIN:VCALENDAR
VERSION:2.0
PRODID:SchoolNow
CALSCALE:GREGORIAN
BEGIN:VEVENT
UID:7510006c-b05c-11f0-886d-0228d1b25e73
DTSTAMP:20260423T215115Z
SUMMARY:Reading Olympics Meetings -  High School
LOCATION:Library
URL;VALUE=URI:https://www.rak12.org/calendar/8746131/reading-olympics-meeti
 ngs-high-school
DTSTART:20260327T143000Z
DTEND:20260327T152000Z
END:VEVENT
END:VCALENDAR
