BEGIN:VCALENDAR
VERSION:2.0
PRODID:SchoolNow
CALSCALE:GREGORIAN
BEGIN:VEVENT
UID:1a4bc916-b9b9-11f0-9604-0a58a9feac02
DTSTAMP:20260423T215115Z
SUMMARY:8th Grade Field Trip
LOCATION:National Constitution Center\, 525 Arch St\, Philadelphia\, PA 191
 06\, USA
URL;VALUE=URI:https://www.rak12.org/calendar/8777382/8th-grade-field-trip
DTSTART:20260514T123000Z
DTEND:20260514T180000Z
END:VEVENT
END:VCALENDAR
