BEGIN:VCALENDAR
VERSION:2.0
PRODID:SchoolNow
CALSCALE:GREGORIAN
BEGIN:VEVENT
UID:d40c25b6-bf19-11f0-bd49-0a58a9feac02
DTSTAMP:20260423T215114Z
SUMMARY:Robotics Club Meeting
LOCATION:Rooms 218 and 220
URL;VALUE=URI:https://www.rak12.org/calendar/8789453/robotics-club-meeting
DTSTART:20260203T203000Z
DTEND:20260203T223000Z
END:VEVENT
END:VCALENDAR
