BEGIN:VCALENDAR
VERSION:2.0
PRODID:SchoolNow
CALSCALE:GREGORIAN
BEGIN:VEVENT
UID:d40c2ade-bf19-11f0-81f7-0a58a9feac02
DTSTAMP:20260423T215115Z
SUMMARY:Robotics Club Meeting
LOCATION:Rooms 218 and 220
URL;VALUE=URI:https://www.rak12.org/calendar/8789457/robotics-club-meeting
DTSTART:20260108T203000Z
DTEND:20260108T223000Z
END:VEVENT
END:VCALENDAR
