BEGIN:VCALENDAR
VERSION:2.0
PRODID:SchoolNow
CALSCALE:GREGORIAN
BEGIN:VEVENT
UID:d40c2cfa-bf19-11f0-9384-0a58a9feac02
DTSTAMP:20260423T215114Z
SUMMARY:Robotics Club Meeting
LOCATION:Rooms 218 and 220
URL;VALUE=URI:https://www.rak12.org/calendar/8789459/robotics-club-meeting
DTSTART:20260224T203000Z
DTEND:20260224T223000Z
END:VEVENT
END:VCALENDAR
