BEGIN:VCALENDAR
VERSION:2.0
PRODID:SchoolNow
CALSCALE:GREGORIAN
BEGIN:VEVENT
UID:d40c2e44-bf19-11f0-a7de-0a58a9feac02
DTSTAMP:20260423T215114Z
SUMMARY:Robotics Club Meeting
LOCATION:Rooms 218 and 220
URL;VALUE=URI:https://www.rak12.org/calendar/8789460/robotics-club-meeting
DTSTART:20260324T193000Z
DTEND:20260324T213000Z
END:VEVENT
END:VCALENDAR
