BEGIN:VCALENDAR
VERSION:2.0
PRODID:SchoolNow
CALSCALE:GREGORIAN
BEGIN:VEVENT
UID:d438eaba-bf19-11f0-8710-0a58a9feac02
DTSTAMP:20260423T215115Z
SUMMARY:Robotics Club Meeting
LOCATION:Rooms 218 and 220
URL;VALUE=URI:https://www.rak12.org/calendar/8789487/robotics-club-meeting
DTSTART:20260317T193000Z
DTEND:20260317T213000Z
END:VEVENT
END:VCALENDAR
