BEGIN:VCALENDAR
VERSION:2.0
PRODID:SchoolNow
CALSCALE:GREGORIAN
BEGIN:VEVENT
UID:d438f10e-bf19-11f0-a207-0a58a9feac02
DTSTAMP:20260423T215114Z
SUMMARY:Robotics Club Meeting
LOCATION:Rooms 218 and 220
URL;VALUE=URI:https://www.rak12.org/calendar/8789493/robotics-club-meeting
DTSTART:20260310T193000Z
DTEND:20260310T213000Z
END:VEVENT
END:VCALENDAR
