BEGIN:VCALENDAR
VERSION:2.0
PRODID:SchoolNow
CALSCALE:GREGORIAN
BEGIN:VEVENT
UID:932123fe-c3e1-11f0-8c83-0a58a9feac02
DTSTAMP:20260423T215115Z
SUMMARY:Girls Who Code -  3rd and 4th Grade
LOCATION:Room 12
URL;VALUE=URI:https://www.rak12.org/calendar/8800131/girls-who-code-3rd-and
 -4th-grade
DTSTART:20260211T170000Z
DTEND:20260211T173000Z
END:VEVENT
END:VCALENDAR
