BEGIN:VCALENDAR
VERSION:2.0
PRODID:SchoolNow
CALSCALE:GREGORIAN
BEGIN:VEVENT
UID:3067956e-cba6-11f0-a44e-0a58a9feac02
DTSTAMP:20260423T215114Z
SUMMARY:Civil Air Patrol
LOCATION:US Gym
URL;VALUE=URI:https://www.rak12.org/calendar/8810968/civil-air-patrol
DTSTART:20260123T000000Z
DTEND:20260123T020000Z
END:VEVENT
END:VCALENDAR
