BEGIN:VCALENDAR
VERSION:2.0
PRODID:SchoolNow
CALSCALE:GREGORIAN
BEGIN:VEVENT
UID:7e53ca04-d9ca-11f0-b26c-02fdc4f36a1f
DTSTAMP:20260423T215114Z
SUMMARY:PBIS Assembly- Grades 5th and 6th
LOCATION:US Gym
URL;VALUE=URI:https://www.rak12.org/calendar/8823908/pbis-assembly-grades-5
 th-and-6th
DTSTART:20260304T142000Z
DTEND:20260304T152000Z
END:VEVENT
END:VCALENDAR
