BEGIN:VCALENDAR
VERSION:2.0
PRODID:SchoolNow
CALSCALE:GREGORIAN
BEGIN:VEVENT
UID:7e735c16-d9ca-11f0-b034-02fdc4f36a1f
DTSTAMP:20260423T215114Z
SUMMARY:PBIS Assembly - Grades 7th and 8th
LOCATION:US Gym
URL;VALUE=URI:https://www.rak12.org/calendar/8823911/pbis-assembly-grades-7
 th-and-8th
DTSTART:20260304T152000Z
DTEND:20260304T162000Z
END:VEVENT
END:VCALENDAR
