BEGIN:VCALENDAR
VERSION:2.0
PRODID:SchoolNow
CALSCALE:GREGORIAN
BEGIN:VEVENT
UID:7e735f40-d9ca-11f0-81de-02fdc4f36a1f
DTSTAMP:20260423T215115Z
SUMMARY:PBIS Store- Grades 9th - 12th
LOCATION:Gym Stage
URL;VALUE=URI:https://www.rak12.org/calendar/8823913/pbis-store-grades-9th-
 12th
DTSTART:20260304T132500Z
DTEND:20260304T142100Z
END:VEVENT
END:VCALENDAR
