BEGIN:VCALENDAR
VERSION:2.0
PRODID:SchoolNow
CALSCALE:GREGORIAN
BEGIN:VEVENT
UID:7e736ddc-d9ca-11f0-8127-02fdc4f36a1f
DTSTAMP:20260423T215114Z
SUMMARY:PBIS Store- Grades 9th - 12th
LOCATION:Gym Stage
URL;VALUE=URI:https://www.rak12.org/calendar/8823914/pbis-store-grades-9th-
 12th
DTSTART:20260304T193500Z
DTEND:20260304T203000Z
END:VEVENT
END:VCALENDAR
