BEGIN:VCALENDAR
VERSION:2.0
PRODID:SchoolNow
CALSCALE:GREGORIAN
BEGIN:VEVENT
UID:6fea8204-d9fd-11f0-a04d-0affe6f50ac3
DTSTAMP:20260423T215114Z
SUMMARY:Adult Basketball
LOCATION:US Gym
URL;VALUE=URI:https://www.rak12.org/calendar/8824685/adult-basketball
DTSTART:20260106T233000Z
DTEND:20260107T013000Z
END:VEVENT
END:VCALENDAR
