BEGIN:VCALENDAR
VERSION:2.0
PRODID:SchoolNow
CALSCALE:GREGORIAN
BEGIN:VEVENT
UID:700a607e-d9fd-11f0-b396-0affe6f50ac3
DTSTAMP:20260423T215114Z
SUMMARY:HS Band Trip
LOCATION:300 S Broad St\, Philadelphia\, PA 19102\, USA
URL;VALUE=URI:https://www.rak12.org/calendar/8824686/hs-band-trip
DTSTART:20260430T121500Z
DTEND:20260430T184500Z
END:VEVENT
END:VCALENDAR
