BEGIN:VCALENDAR
VERSION:2.0
PRODID:SchoolNow
CALSCALE:GREGORIAN
BEGIN:VEVENT
UID:700a67a4-d9fd-11f0-9dc3-0affe6f50ac3
DTSTAMP:20260423T215115Z
SUMMARY:Adult Basketball
LOCATION:US Gym
URL;VALUE=URI:https://www.rak12.org/calendar/8824687/adult-basketball
DTSTART:20260127T233000Z
DTEND:20260128T013000Z
END:VEVENT
END:VCALENDAR
