BEGIN:VCALENDAR
VERSION:2.0
PRODID:SchoolNow
CALSCALE:GREGORIAN
BEGIN:VEVENT
UID:31caa57c-dbc8-11f0-b3f4-0a58a9feac02
DTSTAMP:20260423T215114Z
SUMMARY:Girls Who Code 5th and 6th Grade
LOCATION:Room 22
URL;VALUE=URI:https://www.rak12.org/calendar/8825661/girls-who-code-5th-and
 -6th-grade
DTSTART:20260205T163000Z
DTEND:20260205T170000Z
END:VEVENT
END:VCALENDAR
