BEGIN:VCALENDAR
VERSION:2.0
PRODID:SchoolNow
CALSCALE:GREGORIAN
BEGIN:VEVENT
UID:31e876ba-dbc8-11f0-a72d-0a58a9feac02
DTSTAMP:20260423T215114Z
SUMMARY:Girls Who Code 5th and 6th Grade
LOCATION:Room 22
URL;VALUE=URI:https://www.rak12.org/calendar/8825663/girls-who-code-5th-and
 -6th-grade
DTSTART:20260115T163000Z
DTEND:20260115T170000Z
END:VEVENT
END:VCALENDAR
