BEGIN:VCALENDAR
VERSION:2.0
PRODID:SchoolNow
CALSCALE:GREGORIAN
BEGIN:VEVENT
UID:710bf1e0-eb1e-11f0-ae71-0a58a9feac02
DTSTAMP:20260423T215114Z
SUMMARY:Key Club Meeting
LOCATION:2nd Floor Flex
URL;VALUE=URI:https://www.rak12.org/calendar/8829855/key-club-meeting
DTSTART:20260324T142600Z
DTEND:20260324T145600Z
END:VEVENT
END:VCALENDAR
