BEGIN:VCALENDAR
VERSION:2.0
PRODID:SchoolNow
CALSCALE:GREGORIAN
BEGIN:VEVENT
UID:7128e2b4-eb1e-11f0-a213-0a58a9feac02
DTSTAMP:20260423T215114Z
SUMMARY:Key Club Meeting
LOCATION:2nd Floor Flex
URL;VALUE=URI:https://www.rak12.org/calendar/8829856/key-club-meeting
DTSTART:20260113T155700Z
DTEND:20260113T162700Z
END:VEVENT
END:VCALENDAR
