BEGIN:VCALENDAR
VERSION:2.0
PRODID:SchoolNow
CALSCALE:GREGORIAN
BEGIN:VEVENT
UID:7128e85e-eb1e-11f0-840f-0a58a9feac02
DTSTAMP:20260423T215114Z
SUMMARY:Key Club Meeting
LOCATION:2nd Floor Flex
URL;VALUE=URI:https://www.rak12.org/calendar/8829858/key-club-meeting
DTSTART:20260210T155700Z
DTEND:20260210T162700Z
END:VEVENT
END:VCALENDAR
