BEGIN:VCALENDAR
VERSION:2.0
PRODID:SchoolNow
CALSCALE:GREGORIAN
BEGIN:VEVENT
UID:7128eeda-eb1e-11f0-a63c-0a58a9feac02
DTSTAMP:20260423T215114Z
SUMMARY:Key Club Meeting
LOCATION:2nd Floor Flex
URL;VALUE=URI:https://www.rak12.org/calendar/8829862/key-club-meeting
DTSTART:20260127T152600Z
DTEND:20260127T155600Z
END:VEVENT
END:VCALENDAR
