BEGIN:VCALENDAR
VERSION:2.0
PRODID:SchoolNow
CALSCALE:GREGORIAN
BEGIN:VEVENT
UID:7145c7da-eb1e-11f0-814c-0a58a9feac02
DTSTAMP:20260423T215114Z
SUMMARY:Key Club Meeting
LOCATION:2nd Floor Flex
URL;VALUE=URI:https://www.rak12.org/calendar/8829863/key-club-meeting
DTSTART:20260428T145700Z
DTEND:20260428T152700Z
END:VEVENT
END:VCALENDAR
