BEGIN:VCALENDAR
VERSION:2.0
PRODID:SchoolNow
CALSCALE:GREGORIAN
BEGIN:VEVENT
UID:7145ce56-eb1e-11f0-a7b5-0a58a9feac02
DTSTAMP:20260423T215114Z
SUMMARY:Key Club Meeting
LOCATION:2nd Floor Flex
URL;VALUE=URI:https://www.rak12.org/calendar/8829864/key-club-meeting
DTSTART:20260224T152600Z
DTEND:20260224T155600Z
END:VEVENT
END:VCALENDAR
