BEGIN:VCALENDAR
VERSION:2.0
PRODID:SchoolNow
CALSCALE:GREGORIAN
BEGIN:VEVENT
UID:6ac38afe-eb51-11f0-98b1-0a58a9feac02
DTSTAMP:20260423T215114Z
SUMMARY:Kindergarten Screening
LOCATION:Library
URL;VALUE=URI:https://www.rak12.org/calendar/8832121/kindergarten-screening
DTSTART:20260403T121500Z
DTEND:20260403T171500Z
END:VEVENT
END:VCALENDAR
