BEGIN:VCALENDAR
VERSION:2.0
PRODID:SchoolNow
CALSCALE:GREGORIAN
BEGIN:VEVENT
UID:6ac39030-eb51-11f0-ae51-0a58a9feac02
DTSTAMP:20260423T215114Z
SUMMARY:QPR Training for all 9th grade students
LOCATION:Rooms  216\, 202\, 119\, 204\, 207
URL;VALUE=URI:https://www.rak12.org/calendar/8832122/qpr-training-for-all-9
 th-grade-students
DTSTART:20260203T132500Z
DTEND:20260203T145500Z
END:VEVENT
END:VCALENDAR
