BEGIN:VCALENDAR
VERSION:2.0
PRODID:SchoolNow
CALSCALE:GREGORIAN
BEGIN:VEVENT
UID:5714bd22-ece9-11f0-bdbd-028aa0ed6b45
DTSTAMP:20260423T215115Z
SUMMARY:Spring Choir Rehearsal - 4th and 5th Grade
LOCATION:Room 124
URL;VALUE=URI:https://www.rak12.org/calendar/8833101/spring-choir-rehearsal
 -4th-and-5th-grade
DTSTART:20260127T203000Z
DTEND:20260127T214500Z
END:VEVENT
END:VCALENDAR
