BEGIN:VCALENDAR
VERSION:2.0
PRODID:SchoolNow
CALSCALE:GREGORIAN
BEGIN:VEVENT
UID:572bf5be-ece9-11f0-93f1-028aa0ed6b45
DTSTAMP:20260423T215115Z
SUMMARY:Spring Choir Rehearsal - 3rd and 6th Grade
LOCATION:Room 124
URL;VALUE=URI:https://www.rak12.org/calendar/8833103/spring-choir-rehearsal
 -3rd-and-6th-grade
DTSTART:20260203T203000Z
DTEND:20260203T214500Z
END:VEVENT
END:VCALENDAR
