BEGIN:VCALENDAR
VERSION:2.0
PRODID:SchoolNow
CALSCALE:GREGORIAN
BEGIN:VEVENT
UID:572bf97e-ece9-11f0-8a3d-028aa0ed6b45
DTSTAMP:20260423T215114Z
SUMMARY:MS - Robotics Competition
LOCATION:Chester Springs\, PA 19425\, USA
URL;VALUE=URI:https://www.rak12.org/calendar/8833104/ms-robotics-competitio
 n
DTSTART:20260214T120000Z
DTEND:20260214T220000Z
END:VEVENT
END:VCALENDAR
