BEGIN:VCALENDAR
VERSION:2.0
PRODID:SchoolNow
CALSCALE:GREGORIAN
BEGIN:VEVENT
UID:572bfae6-ece9-11f0-809a-028aa0ed6b45
DTSTAMP:20260423T215114Z
SUMMARY:HS - Robotics Competition
LOCATION:Norristown\, PA\, USA
URL;VALUE=URI:https://www.rak12.org/calendar/8833105/hs-robotics-competitio
 n
DTSTART:20260221T120000Z
DTEND:20260221T220000Z
END:VEVENT
END:VCALENDAR
