BEGIN:VCALENDAR
VERSION:2.0
PRODID:SchoolNow
CALSCALE:GREGORIAN
BEGIN:VEVENT
UID:572c0086-ece9-11f0-8532-028aa0ed6b45
DTSTAMP:20260423T215114Z
SUMMARY:Spring Choir Rehearsal - 3rd and 6th Grade
LOCATION:Room 124
URL;VALUE=URI:https://www.rak12.org/calendar/8833107/spring-choir-rehearsal
 -3rd-and-6th-grade
DTSTART:20260120T203000Z
DTEND:20260120T214500Z
END:VEVENT
END:VCALENDAR
