BEGIN:VCALENDAR
VERSION:2.0
PRODID:SchoolNow
CALSCALE:GREGORIAN
BEGIN:VEVENT
UID:572c073e-ece9-11f0-85b9-028aa0ed6b45
DTSTAMP:20260423T215115Z
SUMMARY:HS - Robotics Competition
LOCATION:Royersford\, PA 19468\, USA
URL;VALUE=URI:https://www.rak12.org/calendar/8833108/hs-robotics-competitio
 n
DTSTART:20260207T120000Z
DTEND:20260207T220000Z
END:VEVENT
END:VCALENDAR
