BEGIN:VCALENDAR
VERSION:2.0
PRODID:SchoolNow
CALSCALE:GREGORIAN
BEGIN:VEVENT
UID:572c0928-ece9-11f0-952c-028aa0ed6b45
DTSTAMP:20260423T215114Z
SUMMARY:Spring Choir Rehearsal - 4th and 5th Grade
LOCATION:Room 124
URL;VALUE=URI:https://www.rak12.org/calendar/8833109/spring-choir-rehearsal
 -4th-and-5th-grade
DTSTART:20260324T193000Z
DTEND:20260324T204500Z
END:VEVENT
END:VCALENDAR
