BEGIN:VCALENDAR
VERSION:2.0
PRODID:SchoolNow
CALSCALE:GREGORIAN
BEGIN:VEVENT
UID:572c0a72-ece9-11f0-b23e-028aa0ed6b45
DTSTAMP:20260423T215114Z
SUMMARY:MS - Robotics Competition
LOCATION:Downingtown\, PA 19335\, USA
URL;VALUE=URI:https://www.rak12.org/calendar/8833110/ms-robotics-competitio
 n
DTSTART:20260131T120000Z
DTEND:20260131T220000Z
END:VEVENT
END:VCALENDAR
