BEGIN:VCALENDAR
VERSION:2.0
PRODID:SchoolNow
CALSCALE:GREGORIAN
BEGIN:VEVENT
UID:574b1822-ece9-11f0-a38b-028aa0ed6b45
DTSTAMP:20260423T215114Z
SUMMARY:Spring Choir Rehearsal - 4th and 5th Grade
LOCATION:Room 124
URL;VALUE=URI:https://www.rak12.org/calendar/8833114/spring-choir-rehearsal
 -4th-and-5th-grade
DTSTART:20260310T193000Z
DTEND:20260310T204500Z
END:VEVENT
END:VCALENDAR
