BEGIN:VCALENDAR
VERSION:2.0
PRODID:SchoolNow
CALSCALE:GREGORIAN
BEGIN:VEVENT
UID:574b1c8c-ece9-11f0-832c-028aa0ed6b45
DTSTAMP:20260423T215115Z
SUMMARY:Spring Choir Rehearsal  -ALL SINGERS
LOCATION:Room 124 and MS Flex
URL;VALUE=URI:https://www.rak12.org/calendar/8833116/spring-choir-rehearsal
 -all-singers
DTSTART:20260421T193000Z
DTEND:20260421T204500Z
END:VEVENT
END:VCALENDAR
