BEGIN:VCALENDAR
VERSION:2.0
PRODID:SchoolNow
CALSCALE:GREGORIAN
BEGIN:VEVENT
UID:574b22e0-ece9-11f0-a648-028aa0ed6b45
DTSTAMP:20260423T215114Z
SUMMARY:Cooking Club
LOCATION:Cafeteria
URL;VALUE=URI:https://www.rak12.org/calendar/8833119/cooking-club
DTSTART:20260128T193000Z
DTEND:20260128T210000Z
END:VEVENT
END:VCALENDAR
