BEGIN:VCALENDAR
VERSION:2.0
PRODID:SchoolNow
CALSCALE:GREGORIAN
BEGIN:VEVENT
UID:2c87f8de-f019-11f0-9133-0a58a9feac02
DTSTAMP:20260423T215114Z
SUMMARY:Stecher and Associates
LOCATION:Room 109
URL;VALUE=URI:https://www.rak12.org/calendar/8835297/stecher-and-associates
DTSTART:20260322T120000Z
DTEND:20260322T200000Z
END:VEVENT
END:VCALENDAR
