BEGIN:VCALENDAR
VERSION:2.0
PRODID:SchoolNow
CALSCALE:GREGORIAN
BEGIN:VEVENT
UID:2c9d2d8a-f019-11f0-8985-0a58a9feac02
DTSTAMP:20260423T215114Z
SUMMARY:Stecher and Associates
LOCATION:Room 109
URL;VALUE=URI:https://www.rak12.org/calendar/8835300/stecher-and-associates
DTSTART:20260228T130000Z
DTEND:20260228T210000Z
END:VEVENT
END:VCALENDAR
