BEGIN:VCALENDAR
VERSION:2.0
PRODID:SchoolNow
CALSCALE:GREGORIAN
BEGIN:VEVENT
UID:2c9d3000-f019-11f0-b69e-0a58a9feac02
DTSTAMP:20260423T215115Z
SUMMARY:Stecher and Associates
LOCATION:Room 109
URL;VALUE=URI:https://www.rak12.org/calendar/8835301/stecher-and-associates
DTSTART:20260426T120000Z
DTEND:20260426T200000Z
END:VEVENT
END:VCALENDAR
