BEGIN:VCALENDAR
VERSION:2.0
PRODID:SchoolNow
CALSCALE:GREGORIAN
BEGIN:VEVENT
UID:2c9d338e-f019-11f0-842b-0a58a9feac02
DTSTAMP:20260423T215114Z
SUMMARY:Stecher and Associates
LOCATION:Room 109
URL;VALUE=URI:https://www.rak12.org/calendar/8835303/stecher-and-associates
DTSTART:20260411T120000Z
DTEND:20260411T200000Z
END:VEVENT
END:VCALENDAR
