BEGIN:VCALENDAR
VERSION:2.0
PRODID:SchoolNow
CALSCALE:GREGORIAN
BEGIN:VEVENT
UID:2cbf3560-f019-11f0-a21c-0a58a9feac02
DTSTAMP:20260423T215115Z
SUMMARY:Stecher and Associates
LOCATION:Room 109
URL;VALUE=URI:https://www.rak12.org/calendar/8835311/stecher-and-associates
DTSTART:20260221T130000Z
DTEND:20260221T210000Z
END:VEVENT
END:VCALENDAR
